View In:
ArcGIS JavaScript
ArcGIS Online Map Viewer
ArcGIS Earth
ArcMap
View Footprint In:
ArcGIS Online Map Viewer
Service Description: ScannedMaps/Ute_Map
Name: ScannedMaps/Ute_Map
Description:
Single Fused Map Cache: false
Extent:
XMin: 451633.3581904295
YMin: 4378473.8939306885
XMax: 634861.7727352583
YMax: 4525952.090129466
Spatial Reference: 26912
(26912)
Initial Extent:
XMin: 451633.3581904295
YMin: 4378473.8939306885
XMax: 634861.7727352583
YMax: 4525952.090129466
Spatial Reference: 26912
(26912)
Full Extent:
XMin: 451633.3581904295
YMin: 4378473.8939306885
XMax: 634861.7727352583
YMax: 4525952.090129466
Spatial Reference: 26912
(26912)
Pixel Size X: 39.302534222400006
Pixel Size Y: 39.25424439679992
Band Count: 4
Pixel Type: U8
RasterFunction Infos: {"rasterFunctionInfos": [{
"name": "None",
"description": "",
"help": ""
}]}
Mensuration Capabilities: Basic
Has Histograms: true
Has Colormap: false
Has Multi Dimensions : false
Rendering Rule:
Min Scale: 0
Max Scale: 0
Copyright Text:
Service Data Type: esriImageServiceDataTypeGeneric
Min Values: 0, 0, 0, 0
Max Values: 255, 255, 255, 255
Mean Values: 202.45004405904, 202.32994083862, 186.17434168649, 225.62700547996
Standard Deviation Values: 58.924796971736, 54.865793361403, 60.66277778652, 81.408483427198
Object ID Field:
Fields:
None
Default Mosaic Method: Center
Allowed Mosaic Methods:
SortField:
SortValue: null
Mosaic Operator: First
Default Compression Quality: 75
Default Resampling Method: Bilinear
Max Record Count: null
Max Image Height: 4100
Max Image Width: 15000
Max Download Image Count: null
Max Mosaic Image Count: null
Allow Raster Function: true
Allow Copy: true
Allow Analysis: true
Allow Compute TiePoints: false
Supports Statistics: false
Supports Advanced Queries: false
Use StandardizedQueries: true
Raster Type Infos:
Name: Raster Dataset
Description: Supports all ArcGIS Raster Datasets
Help:
Has Raster Attribute Table: false
Edit Fields Info: null
Ownership Based AccessControl For Rasters: null
Child Resources:
Info
Histograms
Statistics
Key Properties
Legend
Raster Function Infos
Supported Operations:
Export Image
Identify
Measure
Compute Histograms
Compute Statistics Histograms
Get Samples
Compute Class Statistics
Query Boundary
Compute Pixel Location
Compute Angles
Validate
Project